BEGIN:VCALENDAR
VERSION:2.0
PRODID:-//Department Of Education//345e826f-47c8-4908-a3b0-12ee8febe24a
BEGIN:VTIMEZONE
TZID:Australia/Sydney
TZURL:http://tzurl.org/zoneinfo-outlook/Australia/Sydney
X-LIC-LOCATION:Australia/Sydney
BEGIN:STANDARD
TZOFFSETFROM:+1100
TZOFFSETTO:+1000
TZNAME:AEST
DTSTART:19700405T030000
RRULE:FREQ=YEARLY;BYMONTH=4;BYDAY=1SU
END:STANDARD
BEGIN:DAYLIGHT
TZOFFSETFROM:+1000
TZOFFSETTO:+1100
TZNAME:AEDT
DTSTART:19701004T020000
RRULE:FREQ=YEARLY;BYMONTH=10;BYDAY=1SU
END:DAYLIGHT
END:VTIMEZONE
CALSCALE:GREGORIAN
X-WR-TIMEZONE:Australia/Sydney
BEGIN:VEVENT
DTSTART;TZID=Australia/Sydney:20210302T090017
DTEND;TZID=Australia/Sydney:20210302T093000
DTSTAMP:20210302T000000Z
UID:a2f83668-1030-4ef5-9a53-a104364a9dc9
LOCATION:Staffroom
SUMMARY;LANGUAGE=en-us:WH&S Induction session 
SEQUENCE:0
DESCRIPTION:WH&S Induction session
END:VEVENT
TRANSP:TRANSPARENT
END:VCALENDAR
