BEGIN:VCALENDAR
VERSION:2.0
PRODID:-//Department Of Education//9a0d45c0-6460-4b2d-9261-95d5a9898688
BEGIN:VTIMEZONE
TZID:Australia/Sydney
TZURL:http://tzurl.org/zoneinfo-outlook/Australia/Sydney
X-LIC-LOCATION:Australia/Sydney
BEGIN:STANDARD
TZOFFSETFROM:+1100
TZOFFSETTO:+1000
TZNAME:AEST
DTSTART:19700405T030000
RRULE:FREQ=YEARLY;BYMONTH=4;BYDAY=1SU
END:STANDARD
BEGIN:DAYLIGHT
TZOFFSETFROM:+1000
TZOFFSETTO:+1100
TZNAME:AEDT
DTSTART:19701004T020000
RRULE:FREQ=YEARLY;BYMONTH=10;BYDAY=1SU
END:DAYLIGHT
END:VTIMEZONE
CALSCALE:GREGORIAN
X-WR-TIMEZONE:Australia/Sydney
BEGIN:VEVENT
DTSTART;TZID=Australia/Sydney:20210308T183039
DTEND;TZID=Australia/Sydney:20210308T193047
DTSTAMP:20210308T000000Z
UID:70e95b1a-2301-4929-8096-a805d28fe493
LOCATION:Staffroom
SUMMARY;LANGUAGE=en-us:P&C Meeting
SEQUENCE:0
DESCRIPTION:P&C Meeting onsite
END:VEVENT
TRANSP:TRANSPARENT
END:VCALENDAR
