BEGIN:VCALENDAR
VERSION:2.0
PRODID:-//Department Of Education//9cdef8ee-cbbe-456b-8eaa-b41cdb6ead3e
BEGIN:VTIMEZONE
TZID:Australia/Sydney
TZURL:http://tzurl.org/zoneinfo-outlook/Australia/Sydney
X-LIC-LOCATION:Australia/Sydney
BEGIN:STANDARD
TZOFFSETFROM:+1100
TZOFFSETTO:+1000
TZNAME:AEST
DTSTART:19700405T030000
RRULE:FREQ=YEARLY;BYMONTH=4;BYDAY=1SU
END:STANDARD
BEGIN:DAYLIGHT
TZOFFSETFROM:+1000
TZOFFSETTO:+1100
TZNAME:AEDT
DTSTART:19701004T020000
RRULE:FREQ=YEARLY;BYMONTH=10;BYDAY=1SU
END:DAYLIGHT
END:VTIMEZONE
CALSCALE:GREGORIAN
X-WR-TIMEZONE:Australia/Sydney
BEGIN:VEVENT
DTSTART;VALUE=DATE:20210301
DTEND;VALUE=DATE:20210302
DTSTAMP:20210301T000000Z
UID:2536023e-44e2-46cf-97e6-a5e9a26d8efb
LOCATION:Adamstown School
SUMMARY;LANGUAGE=en-us:Kinder finish at 2:50pm
SEQUENCE:0
DESCRIPTION:Kindergarten will now finish at 2:50pm each day.
END:VEVENT
TRANSP:TRANSPARENT
END:VCALENDAR
