BEGIN:VCALENDAR
VERSION:2.0
PRODID:-//Department Of Education//53b281c2-5a08-4246-ad48-8a639d3ef7e4
BEGIN:VTIMEZONE
TZID:Australia/Sydney
TZURL:http://tzurl.org/zoneinfo-outlook/Australia/Sydney
X-LIC-LOCATION:Australia/Sydney
BEGIN:STANDARD
TZOFFSETFROM:+1100
TZOFFSETTO:+1000
TZNAME:AEST
DTSTART:19700405T030000
RRULE:FREQ=YEARLY;BYMONTH=4;BYDAY=1SU
END:STANDARD
BEGIN:DAYLIGHT
TZOFFSETFROM:+1000
TZOFFSETTO:+1100
TZNAME:AEDT
DTSTART:19701004T020000
RRULE:FREQ=YEARLY;BYMONTH=10;BYDAY=1SU
END:DAYLIGHT
END:VTIMEZONE
CALSCALE:GREGORIAN
X-WR-TIMEZONE:Australia/Sydney
BEGIN:VEVENT
DTSTART;VALUE=DATE:20210224
DTEND;VALUE=DATE:20210225
DTSTAMP:20210224T000000Z
UID:71db4de8-3032-4cd4-8513-51fd41abdbf5
LOCATION:Lambton Pool
SUMMARY;LANGUAGE=en-us:Zone Swimming Carnival
SEQUENCE:0
DESCRIPTION:Zone Swimming
END:VEVENT
TRANSP:TRANSPARENT
END:VCALENDAR
