BEGIN:VCALENDAR
VERSION:2.0
PRODID:-//Department Of Education//6069023a-42e9-4cbc-b647-238ab84e66e8
BEGIN:VTIMEZONE
TZID:Australia/Sydney
TZURL:http://tzurl.org/zoneinfo-outlook/Australia/Sydney
X-LIC-LOCATION:Australia/Sydney
BEGIN:STANDARD
TZOFFSETFROM:+1100
TZOFFSETTO:+1000
TZNAME:AEST
DTSTART:19700405T030000
RRULE:FREQ=YEARLY;BYMONTH=4;BYDAY=1SU
END:STANDARD
BEGIN:DAYLIGHT
TZOFFSETFROM:+1000
TZOFFSETTO:+1100
TZNAME:AEDT
DTSTART:19701004T020000
RRULE:FREQ=YEARLY;BYMONTH=10;BYDAY=1SU
END:DAYLIGHT
END:VTIMEZONE
CALSCALE:GREGORIAN
X-WR-TIMEZONE:Australia/Sydney
BEGIN:VEVENT
DTSTART;TZID=Australia/Sydney:20210226T120041
DTEND;TZID=Australia/Sydney:20210226T130000
DTSTAMP:20210226T000000Z
UID:98bfa1f9-09e8-4fa7-920e-5cdb5d510c66
LOCATION:APS Hall
SUMMARY;LANGUAGE=en-us:Assembly
SEQUENCE:0
DESCRIPTION:K-1 Assembly 12-12:30 2-6 Swimming Awards Assembly 12:30-1
END:VEVENT
TRANSP:TRANSPARENT
END:VCALENDAR
